View In:
ArcGIS JavaScript
ArcGIS Online Map Viewer
ArcGIS Earth
Service Description: Orthophotography captured with digital mapping camera. Pixel size at ground level is 1.5 meters. USGS ground control used for aerial triangulation. Source TIFFs are referenced by the South Carolina State Plane Coordinate System, NAD 1983 (HARN) 2001 Epoch, International Feet. This image service is referenced by the South Carolina State Plane Coordinate System, NAD 1983 (2011), International Feet (WKID 6570).
Name: imagery/ORTHO2006NJ
Description: Orthophotography captured with digital mapping camera. Pixel size at ground level is 1.5 meters. USGS ground control used for aerial triangulation. Source TIFFs are referenced by the South Carolina State Plane Coordinate System, NAD 1983 (HARN) 2001 Epoch, International Feet. This image service is referenced by the South Carolina State Plane Coordinate System, NAD 1983 (2011), International Feet (WKID 6570).
Single Fused Map Cache: true
Tile Info:
- Height: 256
- Width: 256
- DPI: 96
-
Levels of Detail: 12
- Format: JPEG
- Compression Quality: 85.0
- LERC Error: NaN
- Origin: X: -2.00377E7
Y: 3.02411E7
- Spatial Reference: 103146
(6570)
Storage Info:
- Storage Format: esriMapCacheStorageModeCompactV2
- Packet Size: 128
Extent:
XMin: 1470003.2358923852
YMin: 953995.8395538074
XMax: 1660007.0758923853
YMax: 1244000.3195538074
Spatial Reference: 103146
(6570)
Initial Extent:
XMin: 1470003.2358923852
YMin: 953995.8395538074
XMax: 1660007.0758923853
YMax: 1244000.3195538074
Spatial Reference: 103146
(6570)
Full Extent:
XMin: 1470003.2358923852
YMin: 953995.8395538074
XMax: 1660007.0758923853
YMax: 1244000.3195538074
Spatial Reference: 103146
(6570)
Pixel Size X: 1.6400000000000008
Pixel Size Y: 1.64
Band Count: 3
Pixel Type: U8
RasterFunction Infos: {"rasterFunctionInfos": [{
"name": "None",
"description": "",
"help": ""
}]}
Mensuration Capabilities: None
Inspection Capabilities:
Has Histograms: true
Has Colormap: false
Has Multi Dimensions : false
Rendering Rule:
Min Scale: 614400
Max Scale: 300
Min LOD: 0
Max LOD: 10
Resampling: false
Copyright Text: Greenville County GIS Division, Greenville, SC 29601
Service Data Type: esriImageServiceDataTypeRGB
Min Values: 0, 0, 0
Max Values: 255, 255, 255
Mean Values: 68.10912484255687, 72.5948845718915, 58.05079940056422
Standard Deviation Values: 29.964152953254022, 28.314095893893047, 23.815692381683355
Object ID Field: OBJECTID
Fields:
-
OBJECTID
(
type: esriFieldTypeOID, alias: OBJECTID
)
-
Name
(
type: esriFieldTypeString, alias: Name, length: 200
)
-
MinPS
(
type: esriFieldTypeDouble, alias: MinPS
)
-
MaxPS
(
type: esriFieldTypeDouble, alias: MaxPS
)
-
LowPS
(
type: esriFieldTypeDouble, alias: LowPS
)
-
HighPS
(
type: esriFieldTypeDouble, alias: HighPS
)
-
Category
(
type: esriFieldTypeInteger, alias: Category
, Coded Values:
[0: Unknown]
, [1: Primary]
, [2: Overview]
, ...5 more...
)
-
Tag
(
type: esriFieldTypeString, alias: Tag, length: 100
)
-
GroupName
(
type: esriFieldTypeString, alias: GroupName, length: 100
)
-
ProductName
(
type: esriFieldTypeString, alias: ProductName, length: 100
)
-
CenterX
(
type: esriFieldTypeDouble, alias: CenterX
)
-
CenterY
(
type: esriFieldTypeDouble, alias: CenterY
)
-
ZOrder
(
type: esriFieldTypeInteger, alias: ZOrder
)
-
Shape
(
type: esriFieldTypeGeometry, alias: Shape
)
-
Shape.STArea()
(
type: esriFieldTypeDouble, alias: Shape.STArea()
)
-
Shape.STLength()
(
type: esriFieldTypeDouble, alias: Shape.STLength()
)
Default Mosaic Method: Northwest
Allowed Mosaic Methods: NorthWest,Center,LockRaster,ByAttribute,Nadir,Viewpoint,Seamline,None
SortField:
SortValue: null
Mosaic Operator: First
Default Compression Quality: 80
Default Resampling Method: Bilinear
Max Record Count: 1000
Max Image Height: 4100
Max Image Width: 15000
Max Download Image Count: 20
Max Mosaic Image Count: 20
Allow Raster Function: true
Allow Copy: true
Allow Analysis: true
Allow Compute TiePoints: false
Supports Statistics: true
Supports Advanced Queries: true
Use StandardizedQueries: true
Raster Type Infos:
Name: Raster Dataset
Description: Supports all ArcGIS Raster Datasets
Help:
Has Raster Attribute Table: false
Edit Fields Info: null
Ownership Based AccessControl For Rasters: null
Child Resources:
Info
Histograms
Statistics
Key Properties
Legend
Raster Function Infos
Supported Operations:
Export Image
Query
Identify
Compute Histograms
Compute Statistics Histograms
Get Samples
Compute Class Statistics
Query GPS Info
Find Images
Image to Map
Map to Image
Measure from Image
Image to Map Multiray
Query Boundary
Compute Pixel Location
Compute Angles
Validate
Project