View In:
ArcGIS JavaScript
ArcGIS Online Map Viewer
ArcGIS Earth
ArcMap
View Footprint In:
ArcGIS Online Map Viewer
Service Description: Natural color (24 bit) orthophotography acquired using a Leica ADS40 sensor. Pixel size at ground level is 1.0 feet. Data is referenced by the South Carolina State Plane Coordinate System, NAD 1983 (HARN (2001 Epoch), International Feet.
Name: Imagery/ORTHO2010
Description: Natural color (24 bit) orthophotography acquired using a Leica ADS40 sensor. Pixel size at ground level is 1.0 feet. Data is referenced by the South Carolina State Plane Coordinate System, NAD 1983 (HARN (2001 Epoch), International Feet.
Single Fused Map Cache: true
Tile Info:
- Height: 256
- Width: 256
- DPI: 96
-
Levels of Detail: 12
- Format: JPEG
- Compression Quality: 75.0
- LERC Error: NaN
- Origin: X: -1.229076E8
Y: 1.570145E8
- Spatial Reference: 3361
(3361)
Extent:
XMin: 1470001.2
YMin: 960002.4000000003
XMax: 1680043.2
YMax: 1240056.0000000002
Spatial Reference: 3361
(3361)
Initial Extent:
XMin: 1470001.2
YMin: 960002.4000000003
XMax: 1680043.2
YMax: 1240056.0000000002
Spatial Reference: 3361
(3361)
Full Extent:
XMin: 1470001.2
YMin: 960002.4000000003
XMax: 1680043.2
YMax: 1240056.0000000002
Spatial Reference: 3361
(3361)
Pixel Size X: 1.2
Pixel Size Y: 1.2
Band Count: 3
Pixel Type: U8
RasterFunction Infos: {"rasterFunctionInfos": [{
"name": "None",
"description": "A No-Op Function.",
"help": ""
}]}
Mensuration Capabilities: None
Has Histograms: true
Has Colormap: false
Has Multi Dimensions : false
Rendering Rule:
Min Scale: 576000
Max Scale: 480
Copyright Text: Greenville County GIS Division, Greenville, SC 29601
Service Data Type: esriImageServiceDataTypeRGB
Min Values: 0, 11, 25
Max Values: 255, 255, 255
Mean Values: 110.58538967925479, 112.36399706555983, 92.69465281953387
Standard Deviation Values: 33.83904019418373, 29.816340879060064, 24.467069870527222
Object ID Field: OBJECTID
Fields:
-
OBJECTID
(
type: esriFieldTypeOID, alias: OBJECTID
)
-
Name
(
type: esriFieldTypeString, alias: Name, length: 200
)
-
MinPS
(
type: esriFieldTypeDouble, alias: MinPS
)
-
MaxPS
(
type: esriFieldTypeDouble, alias: MaxPS
)
-
LowPS
(
type: esriFieldTypeDouble, alias: LowPS
)
-
HighPS
(
type: esriFieldTypeDouble, alias: HighPS
)
-
Category
(
type: esriFieldTypeInteger, alias: Category
, Coded Values:
[0: Unknown]
, [1: Primary]
, [2: Overview]
, ...5 more...
)
-
Tag
(
type: esriFieldTypeString, alias: Tag, length: 100
)
-
GroupName
(
type: esriFieldTypeString, alias: GroupName, length: 100
)
-
ProductName
(
type: esriFieldTypeString, alias: ProductName, length: 100
)
-
CenterX
(
type: esriFieldTypeDouble, alias: CenterX
)
-
CenterY
(
type: esriFieldTypeDouble, alias: CenterY
)
-
ZOrder
(
type: esriFieldTypeInteger, alias: ZOrder
)
-
Shape
(
type: esriFieldTypeGeometry, alias: Shape
)
-
Shape.STArea()
(
type: esriFieldTypeDouble, alias: Shape.STArea()
)
-
Shape.STLength()
(
type: esriFieldTypeDouble, alias: Shape.STLength()
)
Default Mosaic Method: Northwest
Allowed Mosaic Methods: NorthWest,Center,LockRaster,ByAttribute,Nadir,Viewpoint,Seamline,None
SortField:
SortValue: null
Mosaic Operator: First
Default Compression Quality: 75
Default Resampling Method: Bilinear
Max Record Count: 1000
Max Image Height: 4100
Max Image Width: 15000
Max Download Image Count: 20
Max Mosaic Image Count: 20
Allow Raster Function: true
Allow Compute TiePoints: false
Supports Statistics: true
Supports Advanced Queries: true
Use StandardizedQueries: true
Raster Type Infos:
Name: Raster Dataset
Description: Supports all ArcGIS Raster Datasets
Help:
Has Raster Attribute Table: false
Edit Fields Info: null
Ownership Based AccessControl For Rasters: null
Child Resources:
Info
Histograms
Key Properties
Legend
MultiDimensionalInfo
rasterFunctionInfos
Supported Operations:
Export Image
Query
Identify
Compute Histograms
Compute Statistics Histograms
Get Samples
Compute Class Statistics
Query Boundary
Compute Pixel Location