View In:
ArcGIS JavaScript
ArcGIS Online Map Viewer
ArcGIS Earth
ArcMap
View Footprint In:
ArcGIS Online Map Viewer
Service Description: Natural color (24 bit) orthophotography acquired in mid-February 2008 using a Leica ADS40 sensor. Pixel resolution at ground level is 6 inches. Data is referenced by the South Carolina State Plane Coordinate System, NAD 1983 (HARN (2001 Epoch), International Foot.
Name: Imagery/ORTHO2008
Description: Natural color (24 bit) orthophotography acquired in mid-February 2008 using a Leica ADS40 sensor. Pixel resolution at ground level is 6 inches. Data is referenced by the South Carolina State Plane Coordinate System, NAD 1983 (HARN (2001 Epoch), International Foot.
Single Fused Map Cache: true
Tile Info:
- Height: 256
- Width: 256
- DPI: 96
-
Levels of Detail: 12
- Format: JPEG
- Compression Quality: 75.0
- LERC Error: NaN
- Origin: X: -1.229076E8
Y: 1.570145E8
- Spatial Reference: 3361
(3361)
Extent:
XMin: 1470000
YMin: 965000
XMax: 1660000
YMax: 1235000
Spatial Reference: 3361
(3361)
Initial Extent:
XMin: 1470000
YMin: 965000
XMax: 1660000
YMax: 1235000
Spatial Reference: 3361
(3361)
Full Extent:
XMin: 1470000
YMin: 965000
XMax: 1660000
YMax: 1235000
Spatial Reference: 3361
(3361)
Pixel Size X: 0.5
Pixel Size Y: 0.5
Band Count: 3
Pixel Type: U8
RasterFunction Infos: {"rasterFunctionInfos": [{
"name": "None",
"description": "A No-Op Function.",
"help": ""
}]}
Mensuration Capabilities: None
Has Histograms: true
Has Colormap: false
Has Multi Dimensions : false
Rendering Rule:
Min Scale: 576000
Max Scale: 480
Copyright Text: Greenville County GIS Division,Greenville, SC 29601
Service Data Type: esriImageServiceDataTypeRGB
Min Values: 2, 9, 21
Max Values: 255, 255, 255
Mean Values: 102.85021769352417, 97.23833557068367, 88.727426993997
Standard Deviation Values: 27.875597646273256, 26.41121359109006, 21.625765017586065
Object ID Field: OBJECTID
Fields:
-
OBJECTID
(
type: esriFieldTypeOID, alias: OBJECTID
)
-
Name
(
type: esriFieldTypeString, alias: Name, length: 200
)
-
MinPS
(
type: esriFieldTypeDouble, alias: MinPS
)
-
MaxPS
(
type: esriFieldTypeDouble, alias: MaxPS
)
-
LowPS
(
type: esriFieldTypeDouble, alias: LowPS
)
-
HighPS
(
type: esriFieldTypeDouble, alias: HighPS
)
-
Category
(
type: esriFieldTypeInteger, alias: Category
, Coded Values:
[0: Unknown]
, [1: Primary]
, [2: Overview]
, ...5 more...
)
-
Tag
(
type: esriFieldTypeString, alias: Tag, length: 100
)
-
GroupName
(
type: esriFieldTypeString, alias: GroupName, length: 100
)
-
ProductName
(
type: esriFieldTypeString, alias: ProductName, length: 100
)
-
CenterX
(
type: esriFieldTypeDouble, alias: CenterX
)
-
CenterY
(
type: esriFieldTypeDouble, alias: CenterY
)
-
ZOrder
(
type: esriFieldTypeInteger, alias: ZOrder
)
-
Shape
(
type: esriFieldTypeGeometry, alias: Shape
)
-
Shape.STArea()
(
type: esriFieldTypeDouble, alias: Shape.STArea()
)
-
Shape.STLength()
(
type: esriFieldTypeDouble, alias: Shape.STLength()
)
Default Mosaic Method: Northwest
Allowed Mosaic Methods: NorthWest,Center,LockRaster,ByAttribute,Nadir,Viewpoint,Seamline,None
SortField:
SortValue: null
Mosaic Operator: First
Default Compression Quality: 75
Default Resampling Method: Bilinear
Max Record Count: 1000
Max Image Height: 4100
Max Image Width: 15000
Max Download Image Count: 20
Max Mosaic Image Count: 20
Allow Raster Function: true
Allow Compute TiePoints: false
Supports Statistics: true
Supports Advanced Queries: true
Use StandardizedQueries: true
Raster Type Infos:
Name: Raster Dataset
Description: Supports all ArcGIS Raster Datasets
Help:
Has Raster Attribute Table: false
Edit Fields Info: null
Ownership Based AccessControl For Rasters: null
Child Resources:
Info
Histograms
Key Properties
Legend
MultiDimensionalInfo
rasterFunctionInfos
Supported Operations:
Export Image
Query
Identify
Compute Histograms
Compute Statistics Histograms
Get Samples
Compute Class Statistics
Query Boundary
Compute Pixel Location