{
 "currentVersion": 11.3,
 "serviceDescription": "Natural color (24 bit) orthophotography acquired using a Vexcel UCE100 sensor. Ground resolution is 0.5 feet. Source TIFFs and this image service are referenced by the South Carolina State Plane Coordinate System, NAD 1983 (2011), International Feet (0.3048 meters). WKID 6570.",
 "name": "imagery/ORTHO2025NJ",
 "description": "Natural color (24 bit) orthophotography acquired using a Vexcel UCE100 sensor. Ground resolution is 0.5 feet. Source TIFFs and this image service are referenced by the South Carolina State Plane Coordinate System, NAD 1983 (2011), International Feet (0.3048 meters). WKID 6570.",
 "extent": {
  "xmin": 1467519,
  "ymin": 961353,
  "xmax": 1662519,
  "ymax": 1236353,
  "spatialReference": {
   "wkid": 103146,
   "latestWkid": 6570
  }
 },
 "initialExtent": {
  "xmin": 1467519,
  "ymin": 961353,
  "xmax": 1662519,
  "ymax": 1236353,
  "spatialReference": {
   "wkid": 103146,
   "latestWkid": 6570
  }
 },
 "fullExtent": {
  "xmin": 1467519,
  "ymin": 961353,
  "xmax": 1662519,
  "ymax": 1236353,
  "spatialReference": {
   "wkid": 103146,
   "latestWkid": 6570
  }
 },
 "sortableFields": "MinPS,MaxPS,LowPS,HighPS,CenterX,CenterY,ZOrder,Shape.STArea(),Shape.STLength()",
 "bandCount": 3,
 "pixelType": "U8",
 "minValues": [
  0,
  9,
  20
 ],
 "maxValues": [
  255,
  255,
  255
 ],
 "meanValues": [
  80.14561768339203,
  81.32663390530608,
  85.12246399541881
 ],
 "stdvValues": [
  29.435531743729584,
  24.821588874777884,
  20.849125246107008
 ],
 "hasMultidimensions": false,
 "pixelSizeX": 0.5,
 "pixelSizeY": 0.5,
 "meanPixelSize": 0.1524,
 "datasetFormat": "AMD",
 "uncompressedSize": 643500000000,
 "blockWidth": 2048,
 "blockHeight": 256,
 "compressionType": "None",
 "bandNames": [
  "Red",
  "Green",
  "Blue"
 ],
 "allowCopy": true,
 "allowAnalysis": true,
 "itemAccess": false,
 "inspectionCapabilities": "",
 "minPixelSize": 0.13020859375052082,
 "maxPixelSize": 533.3344000021333,
 "copyrightText": "Greenville County GIS Division, Greenville, SC 29601",
 "serviceDataType": "esriImageServiceDataTypeRGB",
 "serviceSourceType": "esriImageServiceSourceTypeMosaicDataset",
 "objectIdField": "OBJECTID",
 "fields": [
  {
   "name": "OBJECTID",
   "type": "esriFieldTypeOID",
   "alias": "OBJECTID",
   "domain": null
  },
  {
   "name": "Name",
   "type": "esriFieldTypeString",
   "alias": "Name",
   "domain": null,
   "length": 200
  },
  {
   "name": "MinPS",
   "type": "esriFieldTypeDouble",
   "alias": "MinPS",
   "domain": null
  },
  {
   "name": "MaxPS",
   "type": "esriFieldTypeDouble",
   "alias": "MaxPS",
   "domain": null
  },
  {
   "name": "LowPS",
   "type": "esriFieldTypeDouble",
   "alias": "LowPS",
   "domain": null
  },
  {
   "name": "HighPS",
   "type": "esriFieldTypeDouble",
   "alias": "HighPS",
   "domain": null
  },
  {
   "name": "Category",
   "type": "esriFieldTypeInteger",
   "alias": "Category",
   "domain": {
    "type": "codedValue",
    "name": "MosaicCatalogItemCategoryDomain",
    "description": "Catalog item categories.",
    "codedValues": [
     {
      "name": "Unknown",
      "code": 0
     },
     {
      "name": "Primary",
      "code": 1
     },
     {
      "name": "Overview",
      "code": 2
     },
     {
      "name": "Unprocessed Overview",
      "code": 3
     },
     {
      "name": "Partial Overview",
      "code": 4
     },
     {
      "name": "Uploaded",
      "code": 253
     },
     {
      "name": "Incomplete",
      "code": 254
     },
     {
      "name": "Custom",
      "code": 255
     }
    ],
    "mergePolicy": "esriMPTDefaultValue",
    "splitPolicy": "esriSPTDefaultValue"
   }
  },
  {
   "name": "Tag",
   "type": "esriFieldTypeString",
   "alias": "Tag",
   "domain": null,
   "length": 100
  },
  {
   "name": "GroupName",
   "type": "esriFieldTypeString",
   "alias": "GroupName",
   "domain": null,
   "length": 100
  },
  {
   "name": "ProductName",
   "type": "esriFieldTypeString",
   "alias": "ProductName",
   "domain": null,
   "length": 100
  },
  {
   "name": "CenterX",
   "type": "esriFieldTypeDouble",
   "alias": "CenterX",
   "domain": null
  },
  {
   "name": "CenterY",
   "type": "esriFieldTypeDouble",
   "alias": "CenterY",
   "domain": null
  },
  {
   "name": "ZOrder",
   "type": "esriFieldTypeInteger",
   "alias": "ZOrder",
   "domain": null
  },
  {
   "name": "Shape",
   "type": "esriFieldTypeGeometry",
   "alias": "Shape",
   "domain": null
  },
  {
   "name": "Shape.STArea()",
   "type": "esriFieldTypeDouble",
   "alias": "Shape.STArea()",
   "domain": null
  },
  {
   "name": "Shape.STLength()",
   "type": "esriFieldTypeDouble",
   "alias": "Shape.STLength()",
   "domain": null
  }
 ],
 "capabilities": "Catalog,Image,Metadata",
 "defaultMosaicMethod": "Northwest",
 "allowedMosaicMethods": "NorthWest,Center,LockRaster,ByAttribute,Nadir,Viewpoint,Seamline,None",
 "sortField": "",
 "sortValue": null,
 "sortAscending": true,
 "mosaicOperator": "First",
 "maxDownloadSizeLimit": 2048,
 "defaultCompressionQuality": 85,
 "defaultResamplingMethod": "Bilinear",
 "maxImageHeight": 4100,
 "maxImageWidth": 15000,
 "maxRecordCount": 1000,
 "maxDownloadImageCount": 20,
 "maxMosaicImageCount": 20,
 "singleFusedMapCache": true,
 "tileInfo": {
  "rows": 256,
  "cols": 256,
  "dpi": 96,
  "format": "JPEG",
  "compressionQuality": 85,
  "origin": {
   "x": -20037700,
   "y": 30241100
  },
  "spatialReference": {
   "wkid": 103146,
   "latestWkid": 6570
  },
  "lods": [
   {
    "level": 0,
    "resolution": 533.3344000021333,
    "scale": 614400
   },
   {
    "level": 1,
    "resolution": 266.66720000106665,
    "scale": 307200
   },
   {
    "level": 2,
    "resolution": 133.33360000053332,
    "scale": 153600
   },
   {
    "level": 3,
    "resolution": 66.66680000026666,
    "scale": 76800
   },
   {
    "level": 4,
    "resolution": 33.33340000013333,
    "scale": 38400
   },
   {
    "level": 5,
    "resolution": 16.666700000066665,
    "scale": 19200
   },
   {
    "level": 6,
    "resolution": 8.333350000033333,
    "scale": 9600
   },
   {
    "level": 7,
    "resolution": 4.166675000016666,
    "scale": 4800
   },
   {
    "level": 8,
    "resolution": 2.083337500008333,
    "scale": 2400
   },
   {
    "level": 9,
    "resolution": 1.0416687500041666,
    "scale": 1200
   },
   {
    "level": 10,
    "resolution": 0.5208343750020833,
    "scale": 600
   },
   {
    "level": 11,
    "resolution": 0.26041718750104165,
    "scale": 300
   },
   {
    "level": 12,
    "resolution": 0.13020859375052082,
    "scale": 150
   }
  ]
 },
 "storageInfo": {
  "storageFormat": "esriMapCacheStorageModeCompactV2",
  "packetSize": 128
 },
 "cacheType": "Map",
 "allowRasterFunction": true,
 "rasterFunctionInfos": [
  {
   "name": "None",
   "description": "",
   "help": ""
  }
 ],
 "rasterTypeInfos": [
  {
   "name": "Raster Dataset",
   "description": "Supports all ArcGIS Raster Datasets",
   "help": ""
  }
 ],
 "mensurationCapabilities": "None",
 "hasHistograms": true,
 "hasColormap": false,
 "hasRasterAttributeTable": false,
 "minScale": 614400,
 "maxScale": 150,
 "minLOD": 0,
 "maxLOD": 10,
 "exportTilesAllowed": false,
 "supportsStatistics": true,
 "supportsAdvancedQueries": true,
 "editFieldsInfo": null,
 "ownershipBasedAccessControlForRasters": null,
 "allowComputeTiePoints": false,
 "useStandardizedQueries": true,
 "advancedQueryCapabilities": {
  "useStandardizedQueries": true,
  "supportsStatistics": true,
  "supportsOrderBy": true,
  "supportsDistinct": true,
  "supportsPagination": true
 },
 "spatialReference": {
  "wkid": 103146,
  "latestWkid": 6570
 },
 "resampling": false
}
