{
 "currentVersion": 10.71,
 "serviceDescription": "ZoningHistory/ZONING_HISORY_1970_2005",
 "name": "ZoningHistory/ZONING_HISORY_1970_2005",
 "description": "",
 "extent": {
  "xmin": 1508679.2311427826,
  "ymin": 977610.1563309823,
  "xmax": 1657393.8246924626,
  "ymax": 1227716.0202729984,
  "spatialReference": {
   "wkid": 103146,
   "latestWkid": 6570
  }
 },
 "initialExtent": {
  "xmin": 1508679.2311427826,
  "ymin": 977610.1563309823,
  "xmax": 1657393.8246924626,
  "ymax": 1227716.0202729984,
  "spatialReference": {
   "wkid": 103146,
   "latestWkid": 6570
  }
 },
 "fullExtent": {
  "xmin": 1508679.2311427826,
  "ymin": 977610.1563309823,
  "xmax": 1657393.8246924626,
  "ymax": 1227716.0202729984,
  "spatialReference": {
   "wkid": 103146,
   "latestWkid": 6570
  }
 },
 "timeInfo": {
  "startTimeField": "DATE",
  "endTimeField": "DATE",
  "timeExtent": [
   157766400000,
   1104537600000
  ],
  "timeReference": null
 },
 "pixelSizeX": 2.3607364639999995,
 "pixelSizeY": 2.3607364640000004,
 "bandCount": 3,
 "pixelType": "U8",
 "minPixelSize": 0.4166675000016667,
 "maxPixelSize": 500.00100000199996,
 "copyrightText": "",
 "serviceDataType": "esriImageServiceDataTypeRGB",
 "minValues": [],
 "maxValues": [],
 "meanValues": [],
 "stdvValues": [],
 "objectIdField": "OBJECTID",
 "fields": [
  {
   "name": "OBJECTID",
   "type": "esriFieldTypeOID",
   "alias": "OBJECTID",
   "domain": null
  },
  {
   "name": "Name",
   "type": "esriFieldTypeString",
   "alias": "Name",
   "domain": null,
   "length": 200
  },
  {
   "name": "MinPS",
   "type": "esriFieldTypeDouble",
   "alias": "MinPS",
   "domain": null
  },
  {
   "name": "MaxPS",
   "type": "esriFieldTypeDouble",
   "alias": "MaxPS",
   "domain": null
  },
  {
   "name": "LowPS",
   "type": "esriFieldTypeDouble",
   "alias": "LowPS",
   "domain": null
  },
  {
   "name": "HighPS",
   "type": "esriFieldTypeDouble",
   "alias": "HighPS",
   "domain": null
  },
  {
   "name": "Category",
   "type": "esriFieldTypeInteger",
   "alias": "Category",
   "domain": {
    "type": "codedValue",
    "name": "MosaicCatalogItemCategoryDomain",
    "description": "Catalog item categories.",
    "codedValues": [
     {
      "name": "Unknown",
      "code": 0
     },
     {
      "name": "Primary",
      "code": 1
     },
     {
      "name": "Overview",
      "code": 2
     },
     {
      "name": "Unprocessed Overview",
      "code": 3
     },
     {
      "name": "Partial Overview",
      "code": 4
     },
     {
      "name": "Inactive",
      "code": 5
     },
     {
      "name": "Uploaded",
      "code": 253
     },
     {
      "name": "Incomplete",
      "code": 254
     },
     {
      "name": "Custom",
      "code": 255
     }
    ],
    "mergePolicy": "esriMPTDefaultValue",
    "splitPolicy": "esriSPTDefaultValue"
   }
  },
  {
   "name": "Tag",
   "type": "esriFieldTypeString",
   "alias": "Tag",
   "domain": null,
   "length": 100
  },
  {
   "name": "GroupName",
   "type": "esriFieldTypeString",
   "alias": "GroupName",
   "domain": null,
   "length": 100
  },
  {
   "name": "ProductName",
   "type": "esriFieldTypeString",
   "alias": "ProductName",
   "domain": null,
   "length": 100
  },
  {
   "name": "CenterX",
   "type": "esriFieldTypeDouble",
   "alias": "CenterX",
   "domain": null
  },
  {
   "name": "CenterY",
   "type": "esriFieldTypeDouble",
   "alias": "CenterY",
   "domain": null
  },
  {
   "name": "ZOrder",
   "type": "esriFieldTypeInteger",
   "alias": "ZOrder",
   "domain": null
  },
  {
   "name": "Shape",
   "type": "esriFieldTypeGeometry",
   "alias": "Shape",
   "domain": null
  },
  {
   "name": "DATE",
   "type": "esriFieldTypeDate",
   "alias": "DATE",
   "domain": null,
   "length": 8
  }
 ],
 "capabilities": "Image,Metadata,Catalog,Mensuration",
 "defaultMosaicMethod": "Northwest",
 "allowedMosaicMethods": "NorthWest,Center,LockRaster,ByAttribute,Nadir,Viewpoint,Seamline,None",
 "sortField": "",
 "sortValue": null,
 "mosaicOperator": "First",
 "maxDownloadSizeLimit": 2048,
 "defaultCompressionQuality": 75,
 "defaultResamplingMethod": "Bilinear",
 "maxImageHeight": 4100,
 "maxImageWidth": 15000,
 "maxRecordCount": 1000,
 "maxDownloadImageCount": 20,
 "maxMosaicImageCount": 20,
 "singleFusedMapCache": true,
 "tileInfo": {
  "rows": 256,
  "cols": 256,
  "dpi": 96,
  "format": "JPEG",
  "compressionQuality": 80,
  "origin": {
   "x": -122907600,
   "y": 157014500
  },
  "spatialReference": {
   "wkid": 103146,
   "latestWkid": 6570
  },
  "lods": [
   {
    "level": 0,
    "resolution": 500.001000002,
    "scale": 576000
   },
   {
    "level": 1,
    "resolution": 250.000500001,
    "scale": 288000
   },
   {
    "level": 2,
    "resolution": 125.0002500005,
    "scale": 144000
   },
   {
    "level": 3,
    "resolution": 62.50012500025,
    "scale": 72000
   },
   {
    "level": 4,
    "resolution": 31.250062500125,
    "scale": 36000
   },
   {
    "level": 5,
    "resolution": 15.6250312500625,
    "scale": 18000
   },
   {
    "level": 6,
    "resolution": 8.333350000033333,
    "scale": 9600
   },
   {
    "level": 7,
    "resolution": 4.166675000016666,
    "scale": 4800
   },
   {
    "level": 8,
    "resolution": 2.7777833333444444,
    "scale": 3200
   },
   {
    "level": 9,
    "resolution": 1.3888916666722222,
    "scale": 1600
   },
   {
    "level": 10,
    "resolution": 0.8333350000033333,
    "scale": 960
   },
   {
    "level": 11,
    "resolution": 0.41666750000166664,
    "scale": 480
   }
  ]
 },
 "cacheType": "Map",
 "allowRasterFunction": true,
 "rasterFunctionInfos": [
  {
   "name": "None",
   "description": "",
   "help": ""
  }
 ],
 "rasterTypeInfos": [
  {
   "name": "Raster Dataset",
   "description": "Supports all ArcGIS Raster Datasets",
   "help": ""
  }
 ],
 "mensurationCapabilities": "Basic",
 "hasHistograms": false,
 "hasColormap": false,
 "hasRasterAttributeTable": false,
 "minScale": 576000,
 "maxScale": 480,
 "minLOD": 0,
 "maxLOD": 11,
 "exportTilesAllowed": false,
 "hasMultidimensions": false,
 "supportsStatistics": true,
 "supportsAdvancedQueries": true,
 "editFieldsInfo": null,
 "ownershipBasedAccessControlForRasters": null,
 "allowComputeTiePoints": false,
 "useStandardizedQueries": true,
 "advancedQueryCapabilities": {
  "useStandardizedQueries": true,
  "supportsStatistics": true,
  "supportsOrderBy": true,
  "supportsDistinct": true,
  "supportsPagination": true
 },
 "spatialReference": {
  "wkid": 103146,
  "latestWkid": 6570
 }
}
