{
 "currentVersion": 10.71,
 "cimVersion": "2.4.0",
 "serviceDescription": "Cached Base Map Service",
 "mapName": "Greenville County Basemap",
 "description": "Cached Base Map Service",
 "copyrightText": "Greenville County GIS Division",
 "supportsDynamicLayers": true,
 "layers": [
  {
   "id": 0,
   "name": "Street Centerline Basemap",
   "parentLayerId": -1,
   "defaultVisibility": true,
   "subLayerIds": null,
   "minScale": 72000,
   "maxScale": 36001,
   "type": "Feature Layer",
   "geometryType": "esriGeometryPolyline",
   "supportsDynamicLegends": true
  },
  {
   "id": 1,
   "name": "Interstates / Highways Basemap",
   "parentLayerId": -1,
   "defaultVisibility": true,
   "subLayerIds": null,
   "minScale": 0,
   "maxScale": 72001,
   "type": "Feature Layer",
   "geometryType": "esriGeometryPolyline",
   "supportsDynamicLegends": true
  },
  {
   "id": 2,
   "name": "Municipalities Basemap",
   "parentLayerId": -1,
   "defaultVisibility": true,
   "subLayerIds": null,
   "minScale": 0,
   "maxScale": 36001,
   "type": "Feature Layer",
   "geometryType": "esriGeometryPolygon",
   "supportsDynamicLegends": true
  },
  {
   "id": 3,
   "name": "Greenville County Boundary Basemap",
   "parentLayerId": -1,
   "defaultVisibility": true,
   "subLayerIds": null,
   "minScale": 0,
   "maxScale": 36001,
   "type": "Feature Layer",
   "geometryType": "esriGeometryPolygon",
   "supportsDynamicLegends": true
  },
  {
   "id": 7,
   "name": "2025 Orthophotography Basemap",
   "parentLayerId": -1,
   "defaultVisibility": true,
   "subLayerIds": null,
   "minScale": 36000,
   "maxScale": 0,
   "type": "Raster Layer",
   "supportsDynamicLegends": false
  }
 ],
 "tables": [],
 "spatialReference": {
  "wkid": 103146,
  "latestWkid": 6570,
  "vcsWkid": 105703,
  "latestVcsWkid": 6360,
  "xyTolerance": 0.0032808398950131233,
  "zTolerance": 2,
  "mTolerance": 2,
  "falseX": -122907600,
  "falseY": -92800700,
  "xyUnits": 3.605544920701779E7,
  "falseZ": 0,
  "zUnits": 3048.006096012192,
  "falseM": -100000,
  "mUnits": 10000
 },
 "singleFusedMapCache": true,
 "tileInfo": {
  "rows": 256,
  "cols": 256,
  "dpi": 96,
  "format": "JPEG",
  "compressionQuality": 85,
  "origin": {
   "x": -122907600,
   "y": 157014500
  },
  "spatialReference": {
   "wkid": 103146,
   "latestWkid": 6570,
   "vcsWkid": 105703,
   "latestVcsWkid": 6360,
   "xyTolerance": 0.0032808398950131233,
   "zTolerance": 0.001,
   "mTolerance": 0.001,
   "falseX": -122907600,
   "falseY": -92800700,
   "xyUnits": 3048,
   "falseZ": -100000,
   "zUnits": 10000,
   "falseM": -100000,
   "mUnits": 10000
  },
  "lods": [
   {
    "level": 0,
    "resolution": 500.001000002,
    "scale": 576000
   },
   {
    "level": 1,
    "resolution": 250.000500001,
    "scale": 288000
   },
   {
    "level": 2,
    "resolution": 125.0002500005,
    "scale": 144000
   },
   {
    "level": 3,
    "resolution": 62.50012500025,
    "scale": 72000
   },
   {
    "level": 4,
    "resolution": 31.250062500125,
    "scale": 36000
   },
   {
    "level": 5,
    "resolution": 15.6250312500625,
    "scale": 18000
   },
   {
    "level": 6,
    "resolution": 8.333350000033333,
    "scale": 9600
   },
   {
    "level": 7,
    "resolution": 4.166675000016666,
    "scale": 4800
   },
   {
    "level": 8,
    "resolution": 2.7777833333444444,
    "scale": 3200
   },
   {
    "level": 9,
    "resolution": 1.3888916666722222,
    "scale": 1600
   },
   {
    "level": 10,
    "resolution": 0.8333350000033333,
    "scale": 960
   },
   {
    "level": 11,
    "resolution": 0.41666750000166664,
    "scale": 480
   }
  ]
 },
 "initialExtent": {
  "xmin": 1233937.1916900775,
  "ymin": 895407.8060263307,
  "xmax": 2005538.7348931641,
  "ymax": 1295808.6068279324,
  "spatialReference": {
   "wkid": 103146,
   "latestWkid": 6570,
   "vcsWkid": 105703,
   "latestVcsWkid": 6360,
   "xyTolerance": 0.0032808398950131233,
   "zTolerance": 2,
   "mTolerance": 2,
   "falseX": -122907600,
   "falseY": -92800700,
   "xyUnits": 3.605544920701779E7,
   "falseZ": 0,
   "zUnits": 3048.006096012192,
   "falseM": -100000,
   "mUnits": 10000
  }
 },
 "fullExtent": {
  "xmin": 1467519.062817648,
  "ymin": 961353.1581980437,
  "xmax": 1662519.062817648,
  "ymax": 1236353.1581980437,
  "spatialReference": {
   "wkid": 103146,
   "latestWkid": 6570,
   "vcsWkid": 105703,
   "latestVcsWkid": 6360,
   "xyTolerance": 0.0032808398950131233,
   "zTolerance": 2,
   "mTolerance": 2,
   "falseX": -122907600,
   "falseY": -92800700,
   "xyUnits": 3.605544920701779E7,
   "falseZ": 0,
   "zUnits": 3048.006096012192,
   "falseM": -100000,
   "mUnits": 10000
  }
 },
 "minScale": 576000,
 "maxScale": 480,
 "minLOD": 0,
 "maxLOD": 11,
 "units": "esriFeet",
 "supportedImageFormatTypes": "PNG32,PNG24,PNG,JPG,DIB,TIFF,EMF,PS,PDF,GIF,SVG,SVGZ,BMP",
 "documentInfo": {
  "Title": "Untitled.aprx",
  "Author": "",
  "Comments": "Cached Base Map Service",
  "Subject": "Greenville County Base Map",
  "Category": "",
  "AntialiasingMode": "Fast",
  "TextAntialiasingMode": "Force",
  "Keywords": "Greenville County Base Map Cache"
 },
 "capabilities": "Map,Query,Data",
 "supportedQueryFormats": "JSON, geoJSON, PBF",
 "exportTilesAllowed": false,
 "datumTransformations": [
  {
   "geoTransforms": [
    {
     "wkid": 108355,
     "latestWkid": 108355,
     "transformForward": false,
     "name": "NAD_1983_HARN_To_NAD_1983_2011"
    }
   ]
  },
  {
   "geoTransforms": [
    {
     "wkid": 108355,
     "latestWkid": 108355,
     "transformForward": true,
     "name": "NAD_1983_HARN_To_NAD_1983_2011"
    }
   ]
  },
  {
   "geoTransforms": [
    {
     "wkid": 108363,
     "latestWkid": 108363,
     "transformForward": true,
     "name": "WGS_1984_(ITRF08)_To_NAD_1983_2011"
    }
   ]
  },
  {
   "geoTransforms": [
    {
     "wkid": 108363,
     "latestWkid": 108363,
     "transformForward": false,
     "name": "WGS_1984_(ITRF08)_To_NAD_1983_2011"
    }
   ]
  }
 ],
 "supportsDatumTransformation": true,
 "heightModelInfo": {
  "heightModel": "gravity_related_height",
  "vertCRS": "NAVD88_height_(ftUS)",
  "heightUnit": "us-foot"
 },
 "supportsVCSProjection": true,
 "archivingInfo": {
  "supportsHistoricMoment": false
 },
 "maxRecordCount": 2000,
 "maxImageHeight": 4096,
 "maxImageWidth": 4096,
 "supportedExtensions": ""
}
